BEGIN:VCALENDAR
VERSION:2.0
PRODID:-//Kantun kulture - ECPv6.15.20//NONSGML v1.0//EN
CALSCALE:GREGORIAN
METHOD:PUBLISH
X-WR-CALNAME:Kantun kulture
X-ORIGINAL-URL:https://kantun-kulture.hr
X-WR-CALDESC:Događaji za Kantun kulture
REFRESH-INTERVAL;VALUE=DURATION:PT1H
X-Robots-Tag:noindex
X-PUBLISHED-TTL:PT1H
BEGIN:VTIMEZONE
TZID:Europe/Zagreb
BEGIN:DAYLIGHT
TZOFFSETFROM:+0100
TZOFFSETTO:+0200
TZNAME:CEST
DTSTART:20250330T010000
END:DAYLIGHT
BEGIN:STANDARD
TZOFFSETFROM:+0200
TZOFFSETTO:+0100
TZNAME:CET
DTSTART:20251026T010000
END:STANDARD
BEGIN:DAYLIGHT
TZOFFSETFROM:+0100
TZOFFSETTO:+0200
TZNAME:CEST
DTSTART:20260329T010000
END:DAYLIGHT
BEGIN:STANDARD
TZOFFSETFROM:+0200
TZOFFSETTO:+0100
TZNAME:CET
DTSTART:20261025T010000
END:STANDARD
BEGIN:DAYLIGHT
TZOFFSETFROM:+0100
TZOFFSETTO:+0200
TZNAME:CEST
DTSTART:20270328T010000
END:DAYLIGHT
BEGIN:STANDARD
TZOFFSETFROM:+0200
TZOFFSETTO:+0100
TZNAME:CET
DTSTART:20271031T010000
END:STANDARD
END:VTIMEZONE
BEGIN:VEVENT
DTSTART;TZID=Europe/Zagreb:20260112T180000
DTEND;TZID=Europe/Zagreb:20260112T190000
DTSTAMP:20260421T135228
CREATED:20260105T121018Z
LAST-MODIFIED:20260105T121018Z
UID:10001265-1768240800-1768244400@kantun-kulture.hr
SUMMARY:Sastanak čitateljskog kluba Kantunal
DESCRIPTION:Sastaju se članovi čitateljskog kluba Kantunal da bi raspravili o prvoj knjizi pročitanoj u novoj 2026. godini.
URL:https://kantun-kulture.hr/program/sastanak-citateljskog-kluba-kantunal-7/
LOCATION:Kantun kulture\, Ulica dr. Franje Tuđmana 2\, Trogir\, 21220
CATEGORIES:Ostali programi
ATTACH;FMTTYPE=image/webp:https://kantun-kulture.hr/wp-content/uploads/2026/01/babettina-gozba-karen-blixen-Rpft.webp
END:VEVENT
BEGIN:VEVENT
DTSTART;TZID=Europe/Zagreb:20260131T200000
DTEND;TZID=Europe/Zagreb:20260131T220000
DTSTAMP:20260421T135228
CREATED:20251212T165113Z
LAST-MODIFIED:20251212T165113Z
UID:10001258-1769889600-1769896800@kantun-kulture.hr
SUMMARY:"ERO SA OVOGA SVIJETA" by Željko Ninčić
DESCRIPTION:31.siječnja 2026. godine dolazi nam Željko Ninčić sa svojom Stand up komedijom “Ero sa ovoga svijeta”. \nDovoljno je reći: \n“Ćetri sata ćamim ćekajući” i mnogobrojni ljubitelji najgledanije predstave ovih prostora\n“Sarajevske Audicije”\, znaju da je u pitanju Marinko Ćutuk\, Hercegovac\, Mostarac. \nUz Marinka tu je i Veseli\, Bosanac\, koji nam je prepoznatljiv sa svojim čuvenim :”Primi \nme”. \nNakon odigranih preko 3000 predstava Audicija\,(Audicija\,Nova Audicija\,Najnovija \nAudicija-Promime) Ninčića je do sada vidjelo preko 2 mil. gledatelja  uživo.\nPo prvi put da Ninčić izvodi stand up varijantu u kojoj se gledatelji mogu prisjetiti kultnih \nmomenata legendarne predstave kao i novih autorskih kreacija kroz  dva najatraktivnijia \nlika. \nUz neke poularne\,antokogijske rečenice i scene scene\, uz osuvremenjavanje i \nmnogobrojne improvizacije i nova autorska stvaralaštva\,predstava postiže nivo \natrakcije čuvene “Audicije”. \nKao i uvijek predstavu krasi raznovrsnost humora za sve generacije a sva je u duhu poznate \nrečenice Marinka Ćutuka: \n“Da sam normalan poludio bih”! \n 
URL:https://kantun-kulture.hr/program/ero-sa-ovoga-svijeta-by-zeljko-nincic/
LOCATION:Kantun kulture\, Ulica dr. Franje Tuđmana 2\, Trogir\, 21220
CATEGORIES:Ostali programi
ATTACH;FMTTYPE=image/jpeg:https://kantun-kulture.hr/wp-content/uploads/2025/12/reklama.jpg
END:VEVENT
END:VCALENDAR