BEGIN:VCALENDAR
VERSION:2.0
PRODID:-//Kantun kulture - ECPv6.15.20//NONSGML v1.0//EN
CALSCALE:GREGORIAN
METHOD:PUBLISH
X-ORIGINAL-URL:https://kantun-kulture.hr
X-WR-CALDESC:Događaji za Kantun kulture
REFRESH-INTERVAL;VALUE=DURATION:PT1H
X-Robots-Tag:noindex
X-PUBLISHED-TTL:PT1H
BEGIN:VTIMEZONE
TZID:Europe/Zagreb
BEGIN:DAYLIGHT
TZOFFSETFROM:+0100
TZOFFSETTO:+0200
TZNAME:CEST
DTSTART:20240331T010000
END:DAYLIGHT
BEGIN:STANDARD
TZOFFSETFROM:+0200
TZOFFSETTO:+0100
TZNAME:CET
DTSTART:20241027T010000
END:STANDARD
BEGIN:DAYLIGHT
TZOFFSETFROM:+0100
TZOFFSETTO:+0200
TZNAME:CEST
DTSTART:20250330T010000
END:DAYLIGHT
BEGIN:STANDARD
TZOFFSETFROM:+0200
TZOFFSETTO:+0100
TZNAME:CET
DTSTART:20251026T010000
END:STANDARD
BEGIN:DAYLIGHT
TZOFFSETFROM:+0100
TZOFFSETTO:+0200
TZNAME:CEST
DTSTART:20260329T010000
END:DAYLIGHT
BEGIN:STANDARD
TZOFFSETFROM:+0200
TZOFFSETTO:+0100
TZNAME:CET
DTSTART:20261025T010000
END:STANDARD
END:VTIMEZONE
BEGIN:VEVENT
DTSTART;TZID=Europe/Zagreb:20251023T180000
DTEND;TZID=Europe/Zagreb:20251023T193000
DTSTAMP:20260421T205429
CREATED:20251014T073309Z
LAST-MODIFIED:20251014T073309Z
UID:10001207-1761242400-1761247800@kantun-kulture.hr
SUMMARY:"I tebe se pita!" - Tribina s građanima
DESCRIPTION:Projekt participativnog budžetiranja u Gradu Trogiru.
URL:https://kantun-kulture.hr/program/i-tebe-se-pita-tribina-s-gradanima/
LOCATION:Kantun kulture\, Ulica dr. Franje Tuđmana 2\, Trogir\, 21220
CATEGORIES:Ostali programi
ATTACH;FMTTYPE=application/pdf:https://kantun-kulture.hr/wp-content/uploads/2025/10/Raspored_plakatTrogir_ITebeSePita2025.pdf
END:VEVENT
END:VCALENDAR