BEGIN:VCALENDAR
VERSION:2.0
PRODID:-//Kantun kulture - ECPv6.15.20//NONSGML v1.0//EN
CALSCALE:GREGORIAN
METHOD:PUBLISH
X-WR-CALNAME:Kantun kulture
X-ORIGINAL-URL:https://kantun-kulture.hr
X-WR-CALDESC:Događaji za Kantun kulture
REFRESH-INTERVAL;VALUE=DURATION:PT1H
X-Robots-Tag:noindex
X-PUBLISHED-TTL:PT1H
BEGIN:VTIMEZONE
TZID:Europe/Zagreb
BEGIN:DAYLIGHT
TZOFFSETFROM:+0100
TZOFFSETTO:+0200
TZNAME:CEST
DTSTART:20240331T010000
END:DAYLIGHT
BEGIN:STANDARD
TZOFFSETFROM:+0200
TZOFFSETTO:+0100
TZNAME:CET
DTSTART:20241027T010000
END:STANDARD
BEGIN:DAYLIGHT
TZOFFSETFROM:+0100
TZOFFSETTO:+0200
TZNAME:CEST
DTSTART:20250330T010000
END:DAYLIGHT
BEGIN:STANDARD
TZOFFSETFROM:+0200
TZOFFSETTO:+0100
TZNAME:CET
DTSTART:20251026T010000
END:STANDARD
BEGIN:DAYLIGHT
TZOFFSETFROM:+0100
TZOFFSETTO:+0200
TZNAME:CEST
DTSTART:20260329T010000
END:DAYLIGHT
BEGIN:STANDARD
TZOFFSETFROM:+0200
TZOFFSETTO:+0100
TZNAME:CET
DTSTART:20261025T010000
END:STANDARD
BEGIN:DAYLIGHT
TZOFFSETFROM:+0100
TZOFFSETTO:+0200
TZNAME:CEST
DTSTART:20270328T010000
END:DAYLIGHT
BEGIN:STANDARD
TZOFFSETFROM:+0200
TZOFFSETTO:+0100
TZNAME:CET
DTSTART:20271031T010000
END:STANDARD
END:VTIMEZONE
BEGIN:VEVENT
DTSTART;TZID=Europe/Zagreb:20251020T090000
DTEND;TZID=Europe/Zagreb:20251020T130000
DTSTAMP:20260423T001517
CREATED:20251015T112850Z
LAST-MODIFIED:20251015T113737Z
UID:10001208-1760950800-1760965200@kantun-kulture.hr
SUMMARY:Međunarodna konferencija: Klimatske promjene i baština - izazovi i odgovori u priobalnim i zaštićenim područjima
DESCRIPTION:Klimatske promjene i baština: izazovi i odgovori u priobalnim i zaštićenim područjima \nClimate Change and Heritage: Challenges and Responses in Coastal and Protected Areas \n  \nJavna ustanova RERA S.D. – Regionalna razvojna agencija Splitsko-dalmatinske županije\, u suradnji s partnerima\, organizira međunarodnu konferenciju “Klimatske promjene i baština: izazovi i odgovori u priobalnim i zaštićenim područjima”\, koja će se održati u ponedjeljak\, 20. listopada 2025. godine\, u Trogiru (Kantun kulture\, Ul. dr. Franje Tuđmana 2)\, s početkom u 9:00 sati. \nKonferencija okuplja predstavnike znanstvenih institucija\, konzervatorske službe\, UNESCO lokaliteta\, te stručnjake iz Hrvatske i Italije s ciljem razmjene iskustava i znanja o upravljanju rizicima i prilagodbi kulturne baštine klimatskim promjenama. \nPoseban naglasak konferencije stavljen je na projekt CAMPUS (Climate Adaptation Plans for UNESCO Sites)\, koji izrađuje Plan prilagodbe klimatskim promjenama za rizična područja. Kroz izradu plana definirat će se konkretne mjere prilagodbe\, sustav monitoringa te aktivnosti ozelenjavanja i ublažavanja utjecaja toplinskih valova u kritičnim zonama UNESCO lokaliteta poput Trogira i Starog Grada na Hvaru. \nUvodno predavanje “Klimatske promjene: globalni i regionalni procesi” održat će prof. dr. sc. Mirko Orlić (Sveučilište u Zagrebu / HAZU)\, dok će se u daljnjem programu predstaviti primjeri dobre prakse iz Hrvatske i Italije\, uključujući Ministarstvo kulture i medija RH\, Nacionalni park Plitvička jezera\, Sveučilište IUAV iz Venecije\, te Splitsko-dalmatinsku županiju. \nZavršni dio konferencije obuhvatit će okrugli stol “Od globalne znanosti do lokalnog djelovanja”\, na kojem će sudionici raspraviti o budućim koracima u provedbi mjera prilagodbe i daljnjem unaprjeđenju upravljanja rizicima za kulturnu baštinu. \nKonferencija se održava u okviru projekta CAMPUS\, sufinanciranog iz Programa Interreg Italy–Croatia 2021–2027\, koji doprinosi povećanju otpornosti kulturne i prirodne baštine na učinke klimatskih promjena. \n  \nKatarina Banić
URL:https://kantun-kulture.hr/program/medunarodna-konferencija-klimatske-promjene-i-bastina-izazovi-i-odgovori-u-priobalnim-i-zasticenim-podrucjima/
LOCATION:Kantun kulture\, Ulica dr. Franje Tuđmana 2\, Trogir\, 21220
CATEGORIES:Ostali programi
ATTACH;FMTTYPE=application/pdf:https://kantun-kulture.hr/wp-content/uploads/2025/10/Agenda-novaA4.pdf
END:VEVENT
BEGIN:VEVENT
DTSTART;TZID=Europe/Zagreb:20251022T170000
DTEND;TZID=Europe/Zagreb:20251022T200000
DTSTAMP:20260423T001518
CREATED:20251016T185410Z
LAST-MODIFIED:20251020T170446Z
UID:10001210-1761152400-1761163200@kantun-kulture.hr
SUMMARY:Mediteran - između valova i ljudi
DESCRIPTION:Obilježavanje Dana Mediterana u sklopu „30 dana za 30-godišnjicu Euro-Mediterana“ u sklopu projekta „Mediteran – valovi i ljudi“ \nPozivamo vas na večer posvećenu Mediteranu\, njegovim valovima\, ljudima i pričama – kroz film\, raspravu i književnost. \n 17:00 – 18:32  Projekcija filma: Izbačeni (Push) Režija: Fredrik Gertten\nDokumentarni film koji istražuje globalnu krizu stanovanja i utjecaj ekonomskih sila na živote ljudi diljem svijeta. \n 18:32 – 19:15  Panel rasprava Gosti: doc. dr. sc. Toni Popović i Marin Piveta\, mag. oec.\nRasprava o društvenim i ekonomskim valovima suvremenog Mediterana – između turizma\, održivosti i identiteta. Voditelj Bruno Ćurko. \n 19:15 – 20:00  Predstavljanje knjiga:\n• Mediteran kao identitetska odrednica\, Zbornik radova s međunarodnoga znanstvenog skupa\, Urednice: Marijana Tomelić Ćurlin i Tanja Brešan Ančić (Split: Sveučilište u Splitu\, Filozofski fakultet\, 2024.)\n• Denis Bobanović\, Razgovori s Markom Aurelijem\, Ilustratorica: Maja Vejić (Zadar: Udruga Mala filozofija\, 2023.)\n• Filip Škifić\, Tramontana\, (Split: Naklada Fragment\, 2024.)\nSudjeluju: Marijana Tomelić Ćurlin\, Tanja Brešan Ančić\, Denis Bobanović i Bruno Ćurko
URL:https://kantun-kulture.hr/program/mediteran-izmedu-valova-i-ljudi/
LOCATION:Kantun kulture\, Ulica dr. Franje Tuđmana 2\, Trogir\, 21220
CATEGORIES:Ostali programi
ATTACH;FMTTYPE=application/pdf:https://kantun-kulture.hr/wp-content/uploads/2025/10/Trogir-22_10_25_-Meditaran_.pdf
END:VEVENT
BEGIN:VEVENT
DTSTART;TZID=Europe/Zagreb:20251023T180000
DTEND;TZID=Europe/Zagreb:20251023T193000
DTSTAMP:20260423T001518
CREATED:20251014T073309Z
LAST-MODIFIED:20251014T073309Z
UID:10001207-1761242400-1761247800@kantun-kulture.hr
SUMMARY:"I tebe se pita!" - Tribina s građanima
DESCRIPTION:Projekt participativnog budžetiranja u Gradu Trogiru.
URL:https://kantun-kulture.hr/program/i-tebe-se-pita-tribina-s-gradanima/
LOCATION:Kantun kulture\, Ulica dr. Franje Tuđmana 2\, Trogir\, 21220
CATEGORIES:Ostali programi
ATTACH;FMTTYPE=application/pdf:https://kantun-kulture.hr/wp-content/uploads/2025/10/Raspored_plakatTrogir_ITebeSePita2025.pdf
END:VEVENT
BEGIN:VEVENT
DTSTART;TZID=Europe/Zagreb:20251027T180000
DTEND;TZID=Europe/Zagreb:20251027T200000
DTSTAMP:20260423T001518
CREATED:20251016T180626Z
LAST-MODIFIED:20251016T180626Z
UID:10001209-1761588000-1761595200@kantun-kulture.hr
SUMMARY:Predavanje: Zaštita mentalnog zdravlja i prava djeteta - od zajedničke odgovornosti do stvarne podrške
DESCRIPTION:27. listopada u 18 sati u Kantunu kulture gđa. Ana  Babić Pezo\, savjetnica pravobraniteljice za djecu\, održat će predavanje pod nazivom “Zaštita mentalnog zdravlja i prava djeteta- od zajedničke odgovornosti do stvarne podrške”. \nTemelj za cjelokupan razvoj djeteta je pravovremena i cjelovita zaštita njegovih prava i očuvanje mentalnog zdravlja. To uključuje kontinuiranu\, sustavnu izajedničku suradnju svih dionika koji sudjeluju u odrastanju djeteta. Bilježimo trend porasta povreda prava djeteta u području odgoja i obrazovanja\, poteškoće mentalnog zdravlja djece ali i neprimjerene i neučinkovita postupanja odraslih koji o djeci brinu. Cilj predavanja je osvijestiti potrebe\, prava\, želje ali i odgovornosti djeteta i odraslih  koji o njemu brinu te ukazati na situacije kršenja prava djeteta te ponuditi smjernice učinkovitije zaštite. \nPredavanje je namijenjeno roditeljima\, odgojno-obrazovnim djelatnicima  i svim građanima.
URL:https://kantun-kulture.hr/program/predavanje-zastita-mentalnog-zdravlja-i-prava-djeteta-od-zajednicke-odgovornosti-do-stvarne-podrske/
LOCATION:Kantun kulture\, Ulica dr. Franje Tuđmana 2\, Trogir\, 21220
CATEGORIES:Ostali programi
ATTACH;FMTTYPE=image/jpeg:https://kantun-kulture.hr/wp-content/uploads/2025/10/ZASTITA-MENTALNOG-ZDRAVLJA-I-PRAVA-DJETETA-OD-ZAJEDNICKE-ODGOVORNOSTI-DOSTVARNE-PODRSKE-5.jpg
END:VEVENT
BEGIN:VEVENT
DTSTART;TZID=Europe/Zagreb:20251111T170000
DTEND;TZID=Europe/Zagreb:20251111T190000
DTSTAMP:20260423T001518
CREATED:20251105T151329Z
LAST-MODIFIED:20251105T153923Z
UID:10001233-1762880400-1762887600@kantun-kulture.hr
SUMMARY:KROZ PONISTRE MOG DITINSTVA - Priredba Dječjeg vrtića "Trogir"
DESCRIPTION:
URL:https://kantun-kulture.hr/program/kroz-ponistre-mog-ditinstva-priredba-djecjeg-vrtica-trogir/
LOCATION:Kantun kulture\, Ulica dr. Franje Tuđmana 2\, Trogir\, 21220
CATEGORIES:Ostali programi
ATTACH;FMTTYPE=application/pdf:https://kantun-kulture.hr/wp-content/uploads/2025/11/Plakat-Dan-grada-2025.pdf
END:VEVENT
BEGIN:VEVENT
DTSTART;TZID=Europe/Zagreb:20251114T170000
DTEND;TZID=Europe/Zagreb:20251114T200000
DTSTAMP:20260423T001518
CREATED:20251104T152504Z
LAST-MODIFIED:20251104T152504Z
UID:10001232-1763139600-1763150400@kantun-kulture.hr
SUMMARY:Svečana sjednica Gradskog vijeća Grada Trogira
DESCRIPTION:
URL:https://kantun-kulture.hr/program/svecana-sjednica-gradskog-vijeca-grada-trogira-2/
LOCATION:Kantun kulture\, Ulica dr. Franje Tuđmana 2\, Trogir\, 21220
CATEGORIES:Ostali programi
ATTACH;FMTTYPE=image/jpeg:https://kantun-kulture.hr/wp-content/uploads/2025/11/GRAD-TROGIR-LOGO.jpg
END:VEVENT
BEGIN:VEVENT
DTSTART;TZID=Europe/Zagreb:20251121T173000
DTEND;TZID=Europe/Zagreb:20251121T190000
DTSTAMP:20260423T001518
CREATED:20251017T082112Z
LAST-MODIFIED:20251017T095535Z
UID:10001211-1763746200-1763751600@kantun-kulture.hr
SUMMARY:Predstava Roko i Cicibela + Predavanje o falkušama
DESCRIPTION:PREDSTAVA ROKO I CICIBELA — KAZALIŠNO EDUKATIVNI PROGRAM S CILJEM\nOČUVANJA I VALORIZACIJE POVIJESTI GRADNJE I POSTOJANJA DRVENIH\nBRODICA \nProjekt obuhvaća izvedbu predstave „ROKO I CICIBELA“ u kombinaciji s edukativnom\nradionicom u vidu predavanja profesora Joška Božanića na temu „Povijest postojanja i\ngradnje drvenih brodica ( Falkuša )“. Namijenjen je za srednjoškolce i više razrede\nosnovnih škola.\nPredstava govori o ribaru Roku čiji je cijeli život vezan uz more i brodicu u kojoj je dugo i\nživio sa svojom izabranicom predstavlja nam izvrstan predložak za radionicu i predavanje na\ntemu o povijesti i gradnji drvenih brodica. Nakon što odgledaju veselu\, romantičnu i\nrazigranu predstavu\, nakon kraće pauze učenici će prisustvovati radionici u vidu 30-minutnog\npredavanja popraćenog fotografijama i kratkim filmovima na temu povijesti postojanja i\ngradnje drvenih brodica popularnih „FALKUŠA“.\nOsnovni cilj projekta je da putem suradnje kulture i pomorske baštine na zabavan način uz\npredstavu i edukativnu radionicu učenicima viših razreda osnovnih te srednjih škola\npribližimo kako pomorsku baštinu da bi ih u što većem broju zainteresirali za korištenje\ndrvenih brodica u svakodnevnom životu tako i ponekog zaintrigirati da se i sam upusti kroz\nstudij u proučavanje povijesti korištenja i gradnje drvenih brodica\, a s druge strane da im\npribližimo i kulturu i njene brojne segmente u kojima mogu participirati. To bi u svakom\nslučaju trebalo doprinijeti valorizaciji i očuvanju od zaborava ovog segmenta naše pomorske\nbaštine kao i bolji i sadržajniji njihov suživot sa samom kulturom pogotovo kazališnom.
URL:https://kantun-kulture.hr/program/predstava-roko-i-cicibela-predavanje-o-falkusama/
LOCATION:Kantun kulture\, Ulica dr. Franje Tuđmana 2\, Trogir\, 21220
CATEGORIES:Kazalište,Ostali programi
ATTACH;FMTTYPE=image/jpeg:https://kantun-kulture.hr/wp-content/uploads/2025/10/plakat-roko-cicibela-big.jpg
END:VEVENT
BEGIN:VEVENT
DTSTART;TZID=Europe/Zagreb:20251128T093000
DTEND;TZID=Europe/Zagreb:20251128T120000
DTSTAMP:20260423T001518
CREATED:20251120T091635Z
LAST-MODIFIED:20251126T123603Z
UID:10001237-1764322200-1764331200@kantun-kulture.hr
SUMMARY:"Pretežno vedro" - međuškolsko natjecanje iz emocionalne pismenosti
DESCRIPTION:U petak\, 28. studenoga 2025. u Kantunu kulture održat će se “Pretežno vedro” – međuškolsko natjecanje iz emocionalne pismenosti\, u organizaciji OŠ Majstora Radovana.
URL:https://kantun-kulture.hr/program/pretezno-vedro-meduskolsko-natjecanje-iz-emocionalne-pismenosti/
LOCATION:Kantun kulture\, Ulica dr. Franje Tuđmana 2\, Trogir\, 21220
CATEGORIES:Ostali programi
ATTACH;FMTTYPE=application/pdf:https://kantun-kulture.hr/wp-content/uploads/2025/11/Mjesec-borbe-protiv-ovisnosti-2025_.pdf
END:VEVENT
BEGIN:VEVENT
DTSTART;TZID=Europe/Zagreb:20251212T190000
DTEND;TZID=Europe/Zagreb:20251212T210000
DTSTAMP:20260423T001518
CREATED:20251128T121800Z
LAST-MODIFIED:20251203T071031Z
UID:10001250-1765566000-1765573200@kantun-kulture.hr
SUMMARY:Javno čitanje drame Selme Parisi- Pravednik vs. predator
DESCRIPTION:Pozivamo vas na javno čitanje drame “Pravednik vs. predator” Selme Parisi nastale u rezidencijalnom programu “Drama u gradu majstora”. \nJavno čitanje održati će se u Kantunu kulture 12. prosinca 2025. godine u 19 sati u izvedbi studenata Umjetničke akademije u Splitu pod mentorskim vodstvom redatelja Gorana Golovka. \nUlaz je slobodan!
URL:https://kantun-kulture.hr/program/javno-citanje-drame-selme-parisi-pravednik-vs-predator/
LOCATION:Kantun kulture\, Ulica dr. Franje Tuđmana 2\, Trogir\, 21220
CATEGORIES:Ostali programi
ATTACH;FMTTYPE=image/jpeg:https://kantun-kulture.hr/wp-content/uploads/2025/11/IMG-20251128-WA0000.jpg
END:VEVENT
BEGIN:VEVENT
DTSTART;TZID=Europe/Zagreb:20251215T180000
DTEND;TZID=Europe/Zagreb:20251215T200000
DTSTAMP:20260423T001518
CREATED:20251215T151630Z
LAST-MODIFIED:20251215T151630Z
UID:10001259-1765821600-1765828800@kantun-kulture.hr
SUMMARY:SKUPŠTINA PŠU LOKVICE
DESCRIPTION:15. prosinca u 18:00 sati održava se skupština članova Pomorsko športske udruge Lokvice.
URL:https://kantun-kulture.hr/program/skupstina-psu-lokvice/
LOCATION:Kantun kulture\, Ulica dr. Franje Tuđmana 2\, Trogir\, 21220
CATEGORIES:Ostali programi
ATTACH;FMTTYPE=image/jpeg:https://kantun-kulture.hr/wp-content/uploads/2025/12/lokvice-7.jpg
END:VEVENT
BEGIN:VEVENT
DTSTART;TZID=Europe/Zagreb:20251216T190000
DTEND;TZID=Europe/Zagreb:20251216T210000
DTSTAMP:20260423T001518
CREATED:20251204T145511Z
LAST-MODIFIED:20251215T184239Z
UID:10001254-1765911600-1765918800@kantun-kulture.hr
SUMMARY:Božićni koncert Glazbene škole
DESCRIPTION:GLAZBENA ŠKOLA JOSIPA HATZEA \nDO TROGIR \n  \nBožićni koncert učenika Glazbene škole Josipa Hatzea \nNastupaju: \nUčenici početničkog solfeggia / Mali gudački orkestar / Zbor \nIskra Ljuban / Ruta Karadžo / Ninette Bojić / Kristina Šunjić \nLuka Zanki / Klara Dražić / Antonio Anterić / Marko Piteša \nNina Buble / Petra Kolovrat / Viktoria Marinović / Katarina Debak \nGabriela Teskera / Dana Frleta / Veronika Ivelja / Lucija Grga \nMarijeta Saša Tatić / Ana Buble / Niko Arjen Bjelobrk / Karla Čorić \nLukas Ercegović / Marta Miše / Antea Perković / Gita Nevešćanin \nRita Grubišić-Čabo / Lukrecija Margarethe Bilić / Laetitia Milak \nRoza Miše / Gabriela Buble / Marijeta Stanić / Jan Majetić \nAnte Tripović / Toma Županović / Lovre Alić \nNastavnici: \nMirela Jagnjić / Robert Žburin / Rašeljka Bonačić \nSvjetlana Jurić – Pešić / Ante Božić Kudrić / Lorena Malovan Ursa Ljuban \nAntonio Vukadin / Jelena Buble / Ante Ivkošić / Mirela Jagnjić \nRobert Žburin / Rašeljka Bonačić \nKlavirska suradnja: \nAnte Božić Kudrić / Antonio Vukadin / Ursa Ljuban \n  \n           Utorak\, 16. prosinca 2025. u 19 sati \n                    Kantun kulture – Trogir
URL:https://kantun-kulture.hr/program/bozicni-koncert-glazbene-skole/
LOCATION:Kantun kulture\, Ulica dr. Franje Tuđmana 2\, Trogir\, 21220
CATEGORIES:Glazba,Ostali programi
ATTACH;FMTTYPE=image/jpeg:https://kantun-kulture.hr/wp-content/uploads/2025/12/747c63ef-a54f-43c6-b506-e97a1d72be80.jpg
END:VEVENT
BEGIN:VEVENT
DTSTART;TZID=Europe/Zagreb:20260112T180000
DTEND;TZID=Europe/Zagreb:20260112T190000
DTSTAMP:20260423T001518
CREATED:20260105T121018Z
LAST-MODIFIED:20260105T121018Z
UID:10001265-1768240800-1768244400@kantun-kulture.hr
SUMMARY:Sastanak čitateljskog kluba Kantunal
DESCRIPTION:Sastaju se članovi čitateljskog kluba Kantunal da bi raspravili o prvoj knjizi pročitanoj u novoj 2026. godini.
URL:https://kantun-kulture.hr/program/sastanak-citateljskog-kluba-kantunal-7/
LOCATION:Kantun kulture\, Ulica dr. Franje Tuđmana 2\, Trogir\, 21220
CATEGORIES:Ostali programi
ATTACH;FMTTYPE=image/webp:https://kantun-kulture.hr/wp-content/uploads/2026/01/babettina-gozba-karen-blixen-Rpft.webp
END:VEVENT
BEGIN:VEVENT
DTSTART;TZID=Europe/Zagreb:20260131T200000
DTEND;TZID=Europe/Zagreb:20260131T220000
DTSTAMP:20260423T001518
CREATED:20251212T165113Z
LAST-MODIFIED:20251212T165113Z
UID:10001258-1769889600-1769896800@kantun-kulture.hr
SUMMARY:"ERO SA OVOGA SVIJETA" by Željko Ninčić
DESCRIPTION:31.siječnja 2026. godine dolazi nam Željko Ninčić sa svojom Stand up komedijom “Ero sa ovoga svijeta”. \nDovoljno je reći: \n“Ćetri sata ćamim ćekajući” i mnogobrojni ljubitelji najgledanije predstave ovih prostora\n“Sarajevske Audicije”\, znaju da je u pitanju Marinko Ćutuk\, Hercegovac\, Mostarac. \nUz Marinka tu je i Veseli\, Bosanac\, koji nam je prepoznatljiv sa svojim čuvenim :”Primi \nme”. \nNakon odigranih preko 3000 predstava Audicija\,(Audicija\,Nova Audicija\,Najnovija \nAudicija-Promime) Ninčića je do sada vidjelo preko 2 mil. gledatelja  uživo.\nPo prvi put da Ninčić izvodi stand up varijantu u kojoj se gledatelji mogu prisjetiti kultnih \nmomenata legendarne predstave kao i novih autorskih kreacija kroz  dva najatraktivnijia \nlika. \nUz neke poularne\,antokogijske rečenice i scene scene\, uz osuvremenjavanje i \nmnogobrojne improvizacije i nova autorska stvaralaštva\,predstava postiže nivo \natrakcije čuvene “Audicije”. \nKao i uvijek predstavu krasi raznovrsnost humora za sve generacije a sva je u duhu poznate \nrečenice Marinka Ćutuka: \n“Da sam normalan poludio bih”! \n 
URL:https://kantun-kulture.hr/program/ero-sa-ovoga-svijeta-by-zeljko-nincic/
LOCATION:Kantun kulture\, Ulica dr. Franje Tuđmana 2\, Trogir\, 21220
CATEGORIES:Ostali programi
ATTACH;FMTTYPE=image/jpeg:https://kantun-kulture.hr/wp-content/uploads/2025/12/reklama.jpg
END:VEVENT
BEGIN:VEVENT
DTSTART;TZID=Europe/Zagreb:20260206T190000
DTEND;TZID=Europe/Zagreb:20260206T210000
DTSTAMP:20260423T001518
CREATED:20260125T210548Z
LAST-MODIFIED:20260125T210548Z
UID:10001279-1770404400-1770411600@kantun-kulture.hr
SUMMARY:Predavanje „Najstarije piramide na Zemlji – Kod Plejada u bosanskim piramidama“
DESCRIPTION:Svjetski poznati istraživač i otkrivač bosanskih piramida\, dr. Semir Osmanagić\, po prvi put dolazi u Trogir s predavanjem: \n„Najstarije piramide na Zemlji – Kod Plejada u bosanskim piramidama“ \nTijekom posljednjih godina veliki broj posjetitelja iz Trogira i okolice posjetio je Visoko\, Ravne tunele i Park Ravne 2\, a sada se ova priča po prvi put donosi izravno u Trogir. \nO predavaču \nDr. Semir Osmanagić je znanstvenik\, istraživač i autor 22 knjige prevedene na više svjetskih jezika. Otkrivač je Bosanske doline piramida u Visokom i osnivač te direktor Fondacije „Arheološki park: Bosanska piramida Sunca“. Posljednjih 20 godina vodi multidisciplinarna istraživanja koja povezuju arheologiju\, geologiju\, fiziku\, energetiku i drevne civilizacije. O svojim otkrićima predavao je u više od 60 zemalja svijeta. \nTeme predavanja \nPredavanje donosi najnovija otkrića o: \n\nbosanskim piramidama kao najstarijim i najvećim piramidama na svijetu\nnjihovoj ulozi kao energetskih pojačivača\nblagotvornim utjecajima Ravne tunela\nprincipima svete geometrije\nmogućoj povezanosti s Plejadama\n\nPetak\, 6. veljače 2026.\nTrogir – Kantun kulture\nPočetak: 19:00 \nPredavanje je namijenjeno znatiželjnima\, otvorenog uma i svima koje zanima drevna povijest\, energija i skriveno znanje.
URL:https://kantun-kulture.hr/program/predavanje-najstarije-piramide-na-zemlji-kod-plejada-u-bosanskim-piramidama/
LOCATION:Kantun kulture\, Ulica dr. Franje Tuđmana 2\, Trogir\, 21220
CATEGORIES:Ostali programi
ATTACH;FMTTYPE=image/jpeg:https://kantun-kulture.hr/wp-content/uploads/2026/01/piramide.jpg
END:VEVENT
BEGIN:VEVENT
DTSTART;TZID=Europe/Zagreb:20260217T190000
DTEND;TZID=Europe/Zagreb:20260217T220000
DTSTAMP:20260423T001518
CREATED:20260206T171444Z
LAST-MODIFIED:20260206T172258Z
UID:10001294-1771354800-1771365600@kantun-kulture.hr
SUMMARY:Ples pod maskama
DESCRIPTION:Kantun kulture i Trogirska karnevalska udruga „Rašpin jute“ \nPozivaju vas na \nPLES POD MASKAMA \nu utorak\, 17. veljače u 19 sati u Kantunu kulture \n  \nUz glazbu koju će nam puštati DJ ViceE\, bit će organiziran i izbor najbolje maske u pojedinačnim i grupnim kategorijama za odrasle i za djecu. \nNagrade: paket ulaznica za događanja u Kantunu kulture\, i još poneko iznenađenje. \nUlaz je slobodan – a maske obavezne! \n 
URL:https://kantun-kulture.hr/program/ples-pod-maskama/
LOCATION:Kantun kulture\, Ulica dr. Franje Tuđmana 2\, Trogir\, 21220
CATEGORIES:Ostali programi
ATTACH;FMTTYPE=image/jpeg:https://kantun-kulture.hr/wp-content/uploads/2026/02/800a32c7-0a1f-4c80-b963-f66d515d486e.jpg
END:VEVENT
BEGIN:VEVENT
DTSTART;TZID=Europe/Zagreb:20260218T080000
DTEND;TZID=Europe/Zagreb:20260218T140000
DTSTAMP:20260423T001518
CREATED:20260217T150516Z
LAST-MODIFIED:20260218T130926Z
UID:10001301-1771401600-1771423200@kantun-kulture.hr
SUMMARY:Predavanje PP Trogir
DESCRIPTION:18.veljače 2026. u 8:00 sati službenici Policijske postaje Trogir sudjelovati će na predavanju gdje će predstaviti priručnik o tome na koji način razgovarati s građanima od kojih tražimo informaciju\, odnosno s građanima koji trebaju našu pomoć. \nPredavanje je namjenjeno samo službenicima. \n 
URL:https://kantun-kulture.hr/program/predavanje-pp-trogir/
LOCATION:Kantun kulture\, Ulica dr. Franje Tuđmana 2\, Trogir\, 21220
CATEGORIES:Ostali programi
ATTACH;FMTTYPE=image/jpeg:https://kantun-kulture.hr/wp-content/uploads/2026/02/policija-logo.jpg
END:VEVENT
BEGIN:VEVENT
DTSTART;TZID=Europe/Zagreb:20260219T080000
DTEND;TZID=Europe/Zagreb:20260219T140000
DTSTAMP:20260423T001518
CREATED:20260218T130545Z
LAST-MODIFIED:20260218T130809Z
UID:10001302-1771488000-1771509600@kantun-kulture.hr
SUMMARY:PP Trogir Predavanje
DESCRIPTION:19.veljače 2026. u 8:00 sati službenici Policijske postaje Trogir sudjelovati će na predavanju gdje će predstaviti priručnik o tome na koji način razgovarati s građanima od kojih tražimo informaciju\, odnosno s građanima koji trebaju našu pomoć. \nPredavanje je namjenjeno samo službenicima. \n 
URL:https://kantun-kulture.hr/program/pp-trogir-predavanje/
LOCATION:Kantun kulture\, Ulica dr. Franje Tuđmana 2\, Trogir\, 21220
CATEGORIES:Ostali programi
ATTACH;FMTTYPE=image/jpeg:https://kantun-kulture.hr/wp-content/uploads/2026/02/policija-logo.jpg
END:VEVENT
BEGIN:VEVENT
DTSTART;TZID=Europe/Zagreb:20260307T190000
DTEND;TZID=Europe/Zagreb:20260307T200000
DTSTAMP:20260423T001518
CREATED:20260303T154134Z
LAST-MODIFIED:20260303T154134Z
UID:10001318-1772910000-1772913600@kantun-kulture.hr
SUMMARY:Izložba ilustracija "Hrvatske ikone"
DESCRIPTION:U mjesecu posvećenom ženama\, njihovoj snazi i mogućnostima otvaramo izložbu ilustracija Hrvatske ikone. Izložba objedinjuje 100 ilustracija iz knjiga Priče o neustrašivim hrvatskim ženama Tatjane Barat i Ikone: Neustrašive žene koje su promijenile Hrvatsku Rosie Kugli. \n\n\nIlustracije su izradile 23 istaknute hrvatske likovne umjetnice: Nina Iris Bešlić\, Vanda Čižmek\, Sonja Gašperov\, Ivana Guljašević Kuman\, Marsela Hajdinjak\, Branka Hollingsworth Nara\, Mirela Ivanković Bielen\, Helena Janečić\, Marijana Jelić\, Irena Jukić Pranjić\, Ana Kadoić\, Helena Klakočar\, Lana Ključarić\, Hana Lukas Midžić\, Željka Mezić\, Margareta Peršić\, Andrea Petrlik Huseinović\, Sanja Pribić\, Nataša Rašović Bodiš\, Sanja Rešček Ramljak\, Irena Sophia\, Sanja Šantak i Manuela Vladić Maštruko.\n\n\n\nTe su se umjetnice istaknule u različitim poljima likovnog izričaja – dječjoj ilustraciji\, stripu\, skulpturi\, slikarstvu\, grafici\, lutkarstvu\, karikaturi\, animaciji\, a neke od njih su i sveučilišne profesorice koje podučavaju nove generacije hrvatskih likovnjaka. Stoga su ove ilustracije različitih stilova i tehnika\, a istovremeno predstavljaju i presjek suvremene hrvatske ženske likovne scene.\n\n\n\n Otvorenje je u subotu 7. ožujka u 19 h u Kantunu kulture. Izložba traje do 11.4. 2026. Vidimo se!
URL:https://kantun-kulture.hr/program/izlozba-ilustracija-hrvatske-ikone/
LOCATION:Kantun kulture\, Ulica dr. Franje Tuđmana 2\, Trogir\, 21220
CATEGORIES:Ostali programi
ATTACH;FMTTYPE=application/pdf:https://kantun-kulture.hr/wp-content/uploads/2026/03/Vizual-Hrvatske-ikone_plakat_50x70cm_PRIPREMA-1.pdf
END:VEVENT
BEGIN:VEVENT
DTSTART;TZID=Europe/Zagreb:20260310T180000
DTEND;TZID=Europe/Zagreb:20260310T190000
DTSTAMP:20260423T001518
CREATED:20260304T123629Z
LAST-MODIFIED:20260304T123629Z
UID:10001320-1773165600-1773169200@kantun-kulture.hr
SUMMARY:SVEČANA DODJELA PRIZNANJA NAJBOLJIM SPORTAŠIMA TROGIRA ZA 2025.GODINU
DESCRIPTION:U organizaciji Zajednice sportskih udruga Trogira u utorak\, 10. ožujka\, s početkom u 18:00 sati\, u prostoru Kantuna kulture održat će se svečana dodjela priznanja najboljim sportašima za 2025. godinu.
URL:https://kantun-kulture.hr/program/svecana-dodjela-priznanja-najboljim-sportasima-trogira-za-2025-godinu/
LOCATION:Kantun kulture\, Ulica dr. Franje Tuđmana 2\, Trogir\, 21220
CATEGORIES:Ostali programi
ATTACH;FMTTYPE=image/jpeg:https://kantun-kulture.hr/wp-content/uploads/2026/03/646278483_1522792683179703_5974998684137647486_n.jpg
END:VEVENT
BEGIN:VEVENT
DTSTART;TZID=Europe/Zagreb:20260401T110000
DTEND;TZID=Europe/Zagreb:20260401T130000
DTSTAMP:20260423T001518
CREATED:20260324T103035Z
LAST-MODIFIED:20260324T155559Z
UID:10001332-1775041200-1775048400@kantun-kulture.hr
SUMMARY:STRUČNI SKUP NASTAVNIKA POVIJESTI
DESCRIPTION:
URL:https://kantun-kulture.hr/program/strucni-skup-nastavnika-povijesti/
LOCATION:Kantun kulture\, Ulica dr. Franje Tuđmana 2\, Trogir\, 21220
CATEGORIES:Ostali programi
ATTACH;FMTTYPE=image/jpeg:https://kantun-kulture.hr/wp-content/uploads/2026/03/Krunidba_plakat-0021.jpg
END:VEVENT
END:VCALENDAR