BEGIN:VCALENDAR
VERSION:2.0
PRODID:-//Kantun kulture - ECPv6.15.20//NONSGML v1.0//EN
CALSCALE:GREGORIAN
METHOD:PUBLISH
X-WR-CALNAME:Kantun kulture
X-ORIGINAL-URL:https://kantun-kulture.hr
X-WR-CALDESC:Događaji za Kantun kulture
REFRESH-INTERVAL;VALUE=DURATION:PT1H
X-Robots-Tag:noindex
X-PUBLISHED-TTL:PT1H
BEGIN:VTIMEZONE
TZID:Europe/Zagreb
BEGIN:DAYLIGHT
TZOFFSETFROM:+0100
TZOFFSETTO:+0200
TZNAME:CEST
DTSTART:20250330T010000
END:DAYLIGHT
BEGIN:STANDARD
TZOFFSETFROM:+0200
TZOFFSETTO:+0100
TZNAME:CET
DTSTART:20251026T010000
END:STANDARD
BEGIN:DAYLIGHT
TZOFFSETFROM:+0100
TZOFFSETTO:+0200
TZNAME:CEST
DTSTART:20260329T010000
END:DAYLIGHT
BEGIN:STANDARD
TZOFFSETFROM:+0200
TZOFFSETTO:+0100
TZNAME:CET
DTSTART:20261025T010000
END:STANDARD
BEGIN:DAYLIGHT
TZOFFSETFROM:+0100
TZOFFSETTO:+0200
TZNAME:CEST
DTSTART:20270328T010000
END:DAYLIGHT
BEGIN:STANDARD
TZOFFSETFROM:+0200
TZOFFSETTO:+0100
TZNAME:CET
DTSTART:20271031T010000
END:STANDARD
END:VTIMEZONE
BEGIN:VEVENT
DTSTART;TZID=Europe/Zagreb:20260219T080000
DTEND;TZID=Europe/Zagreb:20260219T140000
DTSTAMP:20260422T035352
CREATED:20260218T130545Z
LAST-MODIFIED:20260218T130809Z
UID:10001302-1771488000-1771509600@kantun-kulture.hr
SUMMARY:PP Trogir Predavanje
DESCRIPTION:19.veljače 2026. u 8:00 sati službenici Policijske postaje Trogir sudjelovati će na predavanju gdje će predstaviti priručnik o tome na koji način razgovarati s građanima od kojih tražimo informaciju\, odnosno s građanima koji trebaju našu pomoć. \nPredavanje je namjenjeno samo službenicima. \n 
URL:https://kantun-kulture.hr/program/pp-trogir-predavanje/
LOCATION:Kantun kulture\, Ulica dr. Franje Tuđmana 2\, Trogir\, 21220
CATEGORIES:Ostali programi
ATTACH;FMTTYPE=image/jpeg:https://kantun-kulture.hr/wp-content/uploads/2026/02/policija-logo.jpg
END:VEVENT
BEGIN:VEVENT
DTSTART;TZID=Europe/Zagreb:20260307T190000
DTEND;TZID=Europe/Zagreb:20260307T200000
DTSTAMP:20260422T035352
CREATED:20260303T154134Z
LAST-MODIFIED:20260303T154134Z
UID:10001318-1772910000-1772913600@kantun-kulture.hr
SUMMARY:Izložba ilustracija "Hrvatske ikone"
DESCRIPTION:U mjesecu posvećenom ženama\, njihovoj snazi i mogućnostima otvaramo izložbu ilustracija Hrvatske ikone. Izložba objedinjuje 100 ilustracija iz knjiga Priče o neustrašivim hrvatskim ženama Tatjane Barat i Ikone: Neustrašive žene koje su promijenile Hrvatsku Rosie Kugli. \n\n\nIlustracije su izradile 23 istaknute hrvatske likovne umjetnice: Nina Iris Bešlić\, Vanda Čižmek\, Sonja Gašperov\, Ivana Guljašević Kuman\, Marsela Hajdinjak\, Branka Hollingsworth Nara\, Mirela Ivanković Bielen\, Helena Janečić\, Marijana Jelić\, Irena Jukić Pranjić\, Ana Kadoić\, Helena Klakočar\, Lana Ključarić\, Hana Lukas Midžić\, Željka Mezić\, Margareta Peršić\, Andrea Petrlik Huseinović\, Sanja Pribić\, Nataša Rašović Bodiš\, Sanja Rešček Ramljak\, Irena Sophia\, Sanja Šantak i Manuela Vladić Maštruko.\n\n\n\nTe su se umjetnice istaknule u različitim poljima likovnog izričaja – dječjoj ilustraciji\, stripu\, skulpturi\, slikarstvu\, grafici\, lutkarstvu\, karikaturi\, animaciji\, a neke od njih su i sveučilišne profesorice koje podučavaju nove generacije hrvatskih likovnjaka. Stoga su ove ilustracije različitih stilova i tehnika\, a istovremeno predstavljaju i presjek suvremene hrvatske ženske likovne scene.\n\n\n\n Otvorenje je u subotu 7. ožujka u 19 h u Kantunu kulture. Izložba traje do 11.4. 2026. Vidimo se!
URL:https://kantun-kulture.hr/program/izlozba-ilustracija-hrvatske-ikone/
LOCATION:Kantun kulture\, Ulica dr. Franje Tuđmana 2\, Trogir\, 21220
CATEGORIES:Ostali programi
ATTACH;FMTTYPE=application/pdf:https://kantun-kulture.hr/wp-content/uploads/2026/03/Vizual-Hrvatske-ikone_plakat_50x70cm_PRIPREMA-1.pdf
END:VEVENT
BEGIN:VEVENT
DTSTART;TZID=Europe/Zagreb:20260310T180000
DTEND;TZID=Europe/Zagreb:20260310T190000
DTSTAMP:20260422T035352
CREATED:20260304T123629Z
LAST-MODIFIED:20260304T123629Z
UID:10001320-1773165600-1773169200@kantun-kulture.hr
SUMMARY:SVEČANA DODJELA PRIZNANJA NAJBOLJIM SPORTAŠIMA TROGIRA ZA 2025.GODINU
DESCRIPTION:U organizaciji Zajednice sportskih udruga Trogira u utorak\, 10. ožujka\, s početkom u 18:00 sati\, u prostoru Kantuna kulture održat će se svečana dodjela priznanja najboljim sportašima za 2025. godinu.
URL:https://kantun-kulture.hr/program/svecana-dodjela-priznanja-najboljim-sportasima-trogira-za-2025-godinu/
LOCATION:Kantun kulture\, Ulica dr. Franje Tuđmana 2\, Trogir\, 21220
CATEGORIES:Ostali programi
ATTACH;FMTTYPE=image/jpeg:https://kantun-kulture.hr/wp-content/uploads/2026/03/646278483_1522792683179703_5974998684137647486_n.jpg
END:VEVENT
BEGIN:VEVENT
DTSTART;TZID=Europe/Zagreb:20260401T110000
DTEND;TZID=Europe/Zagreb:20260401T130000
DTSTAMP:20260422T035352
CREATED:20260324T103035Z
LAST-MODIFIED:20260324T155559Z
UID:10001332-1775041200-1775048400@kantun-kulture.hr
SUMMARY:STRUČNI SKUP NASTAVNIKA POVIJESTI
DESCRIPTION:
URL:https://kantun-kulture.hr/program/strucni-skup-nastavnika-povijesti/
LOCATION:Kantun kulture\, Ulica dr. Franje Tuđmana 2\, Trogir\, 21220
CATEGORIES:Ostali programi
ATTACH;FMTTYPE=image/jpeg:https://kantun-kulture.hr/wp-content/uploads/2026/03/Krunidba_plakat-0021.jpg
END:VEVENT
END:VCALENDAR