BEGIN:VCALENDAR
VERSION:2.0
PRODID:-//Kantun kulture - ECPv6.15.20//NONSGML v1.0//EN
CALSCALE:GREGORIAN
METHOD:PUBLISH
X-WR-CALNAME:Kantun kulture
X-ORIGINAL-URL:https://kantun-kulture.hr
X-WR-CALDESC:Događaji za Kantun kulture
REFRESH-INTERVAL;VALUE=DURATION:PT1H
X-Robots-Tag:noindex
X-PUBLISHED-TTL:PT1H
BEGIN:VTIMEZONE
TZID:Europe/Zagreb
BEGIN:DAYLIGHT
TZOFFSETFROM:+0100
TZOFFSETTO:+0200
TZNAME:CEST
DTSTART:20230326T010000
END:DAYLIGHT
BEGIN:STANDARD
TZOFFSETFROM:+0200
TZOFFSETTO:+0100
TZNAME:CET
DTSTART:20231029T010000
END:STANDARD
BEGIN:DAYLIGHT
TZOFFSETFROM:+0100
TZOFFSETTO:+0200
TZNAME:CEST
DTSTART:20240331T010000
END:DAYLIGHT
BEGIN:STANDARD
TZOFFSETFROM:+0200
TZOFFSETTO:+0100
TZNAME:CET
DTSTART:20241027T010000
END:STANDARD
BEGIN:DAYLIGHT
TZOFFSETFROM:+0100
TZOFFSETTO:+0200
TZNAME:CEST
DTSTART:20250330T010000
END:DAYLIGHT
BEGIN:STANDARD
TZOFFSETFROM:+0200
TZOFFSETTO:+0100
TZNAME:CET
DTSTART:20251026T010000
END:STANDARD
END:VTIMEZONE
BEGIN:VEVENT
DTSTART;TZID=Europe/Zagreb:20240509T170000
DTEND;TZID=Europe/Zagreb:20240509T180000
DTSTAMP:20260423T004246
CREATED:20240509T123156Z
LAST-MODIFIED:20240509T123232Z
UID:10000113-1715274000-1715277600@kantun-kulture.hr
SUMMARY:Komemoracija za prof. dr. sc. Vatromira Srhoja
DESCRIPTION:U Kantunu kulture 9. svibnja održat će se komemoracija za prof. dr. sc. Vatromira Srhoja\, legendu rukometnog svijeta koji nas je napustio 4. svibnja 2024. \n  \nVatromir Srhoj. Rođen je 12. 9.1 947. u Splitu. Bio je istaknuti umirovljeni profesor Kineziološkog fakulteta u Splitu na kojem je proveo čitavi radni vijek. Uz uspješnu nastavnu i znanstvenu djelatnost na Fakultetu\, ostvario je i iznimno uspješnu i dugotrajnu stručnu karijeru u rukometnom sportu\, priznatu u svjetskim razmjerima\, kao istaknuti rukometni autoritet\, savjetnik\, mentor\, izbornik\, trener i igrač. \nU sportu i kineziološkoj edukaciji\, bilo kao aktivni igrač\, vrhunski trener\, nastavnik i profesor u školi i na fakultetu\, proveo je preko 60 godina u neprekidnom angažmanu. \nProf. dr.sc. Vatromir Srhoj ostavlja duboki trag\, najprije kao zapaženi rukometaš\, (počeo je kao  najmlađi član prvoligaške ekipe RK Split)\, a potom kao svjetski poznati i priznati  trener klubova i reprezentacija\, nastavnik i znanstvenik. Prošao je sve sportske\, stručne\, nastavne i znanstvene razine\, od školskog sporta (dok je radio kao nastavnik i profesor u školi)\, preko uspješnog vođenja klubova i reprezentacija (radio je sa svim kategorijama i selekcijama rukometaša i rukometašica)\, preko brojnih domaćih i međunarodnih tečajeva\, seminara i kampova na kojima je bio pozvani predavač\, do višegodišnjeg nastavnog angažmana na Kineziološkom fakultetu u Splitu na svim razinama studija. \nProf. dr.sc. Vatromir Srhoj je posebno zapažene rezultate ostvario na sportskom planu. Igračku karijeru započeo je 1956. g. u RK „Split“\, a završio 1975. g. Između ostalog\, bio je uspješni prvoligaški igrač RK „Zagreb“. \nTrenersku karijeru započeo je 1973. g. Kao trener i izbornik ženskih seniorskih reprezentacija ostvario je sljedeće rezultate: \n\npeto mjesto na Svjetskom prvenstvu 1986. g. što je osiguralo nastup na svjetskom prvenstvu\nprvo mjesto na Balkanskom prvenstvu 1986. g.\nsrebrnu medalju na Svjetskom prvenstvu 1990. g.\nzlatnu medalju na Mediteranskim igrama 1991.\nsrebrnu medalju na Mediteranskim igrama 1993. g.\npeto mjesto na Europskom prvenstvu 1994. g.\nsrebrnu medalju na Mediteranskim igrama 1997. g.\n\nIzuzetne rezultate ostvario je i kao trener u klubovima i rukometne lige u kojima je angažiran od 1974. godine: \n\nRK „Trogir“\nRK „Budućnost“ (prvak države godine 1985./86.\, finalist kupa šampiona\, te osvojio prvo mjesto na turniru prvakinja Europe)\nRK „Kraš“- „Lokomotiva“ ( drugo mjesto na državnom prvenstvu 1994. godine\, drugo mjesto u hrvatskom kupu\, igrao u polufinalu kupa EHF-a\, te osvojio  prvo mjesto na turniru europskih prvakinja 1994. godine\nRK „Split“- 2. mjesto\nRK „Brodomerkur“- 3.mjesto\nRK „Dalma“ – 3.mjesto\nRK „Vranjic“ – dva puta 3. mjesto\nRK „ Trogir“ – 3. mjesto\n\nProf. dr.sc. Vatromir Srhoj za svoj zapaženi sportski\, nastavni\, stručni i znanstveni rad dobio je brojna priznanja i nagrade. \nPočivao u miru. \nObitelji izražavamo iskrenu sućut.
URL:https://kantun-kulture.hr/program/komemoracija-za-prof-dr-sc-vatromira-srhoja/
LOCATION:Kantun kulture\, Ulica dr. Franje Tuđmana 2\, Trogir\, 21220
CATEGORIES:Ostali programi
ATTACH;FMTTYPE=image/jpeg:https://kantun-kulture.hr/wp-content/uploads/2024/05/Srhoj_In_Memoriam.jpg
END:VEVENT
BEGIN:VEVENT
DTSTART;VALUE=DATE:20240413
DTEND;VALUE=DATE:20240414
DTSTAMP:20260423T004246
CREATED:20240313T141502Z
LAST-MODIFIED:20240313T141502Z
UID:10000089-1712966400-1713052799@kantun-kulture.hr
SUMMARY:Međužupanijsko natjecanje mladih Hrvatskog Crvenog križa
DESCRIPTION:13. travnja 2024.. održava se Međužupanijsko natjecanje mladih Hrvatskog Crvenog križa  na kojem sudjeluju 23 ekipe Splitsko-dalmatinske i Dubrovačko-neretvanske županije. \n13 ekipa podmlatka iz osnovnih škola i 10 ekipa mladih srednjih škola pokazat će svoja znanja iz poznavanja Međunarodnog pokreta Crvenog križa i Crvenog polumjeseca\, međunarodnog humanitarnog prava\, ljudskih prava i prava djeteta\, Hrvatskog Crvenog križa i aktivnosti Hrvatskog Crvenog križa te provjeru znanja i vještina iz pružanja prve pomoći. \nPobjednici natjecanja svoj put će nastaviti na državnom natjecanju\, u centru svijeta\, Ludbregu.
URL:https://kantun-kulture.hr/program/meduzupanijsko-natjecanje-mladih-hrvatskog-crvenog-kriza/
LOCATION:Kantun kulture\, Ulica dr. Franje Tuđmana 2\, Trogir\, 21220
CATEGORIES:Ostali programi
ATTACH;FMTTYPE=image/jpeg:https://kantun-kulture.hr/wp-content/uploads/2024/03/Natjecanje-mladih-HCK-vizual.jpg
END:VEVENT
BEGIN:VEVENT
DTSTART;TZID=Europe/Zagreb:20240329T080000
DTEND;TZID=Europe/Zagreb:20240329T140000
DTSTAMP:20260423T004246
CREATED:20240313T194445Z
LAST-MODIFIED:20240320T152820Z
UID:10000092-1711699200-1711720800@kantun-kulture.hr
SUMMARY:IZNAD BARIJERA: RAZVOJ PRISTUPAČNOG I INKLUZIVNOG TURIZMA
DESCRIPTION:Kreiranje recepata za inkluzivni i pristupačni turizam sa skraćenim nazivom CReAIT projekt je započet u srpnju 2023. s ciljem postizanja konkretnih inovativnih rješenja u turističkim destinacijama – Trogiru i Fermu (Italija) kako bi ih učinili pristupačnijima za osobe smanjene pokretljivosti\, osobe s invaliditetom\, senzornim\, motoričkim ili mentalnim teškoćama.  Partnerski sastanak u Trogiru okupio je četiri partnerske institucije – Grad Fermo i Socijalno poduzeće COOSS (Italija) te Grad Trogir TZ grada Trogira i Splitsku udrugu CEDRA. \nNA CReAIT’s TRENING PRIJAVITI SE MOŽETE NA OVOM LINKU: \nhttps://docs.google.com/forms/d/e/1FAIpQLScUgieDqAdGz_09pM8iII4yvDHqQCPFjBOwdM4yEEJd3qvoZA/viewform \n  \nPROGRAM CReAIT’s TRENINGA: \n  \n\nDAN – 28.3.2024. – ČETVRTAK od 8 do 14 sati\n\n\nŠto je pristupačan i inkluzivan turizam (AIT)?\nTrendovi u turističkom sektoru – uloga i mogućnosti povezane s AIT-om\nPristupačnost kao znak kvalitete i konkurentnosti\nPrednosti pristupačnosti za širu populaciju\, temeljene na načelima univerzalnog dizajna/dizajna za sve\nNajbolje prakse u EU-u s naglaskom na iskustvima Hrvatskoj i Europi\n\n  \n\nDAN – 29.3.2024. – PETAK od 8 do 14 sati\n\n\nosnovni parametri i značajke fizički dostupnih turističkih lokacija\nosnovne značajke dostupnih informacija i informacija o pristupačnosti\, kako razlikovati dobre i nekvalitetne informacije o pristupačnosti turističkih lokacija ili destinacija\,\nNajbolje prakse/dobri primjeri pristupačnih kulturnih lokaliteta\, sadržaja\, itinerera i usluga.\nRješenje i ideje za stvaranje jednakog turističkog doživljaja za sve\, od planiranja do ukupnog trajanja boravka\nemocionalno obrazovanje kao putovanje prema uključivosti\, poboljšana dobrobit kao rezultat inkluzivnog turizma\nkoraci potrebni za razvoj pristupačnih turističkih rješenja u kulturnim lokalitetima\, objektima\, itinererima i uslugama: praktična radionica kroz igre uloga i simulacije\n\n 
URL:https://kantun-kulture.hr/program/iznad-barijera-razvoj-pristupacnog-i-inkluzivnog-turizma/2024-03-29/
LOCATION:Kantun kulture\, Ulica dr. Franje Tuđmana 2\, Trogir\, 21220
CATEGORIES:Ostali programi
ATTACH;FMTTYPE=image/jpeg:https://kantun-kulture.hr/wp-content/uploads/2024/03/Logo-Interreg-Italy-Croatia_CReAIT.jpg
END:VEVENT
BEGIN:VEVENT
DTSTART;TZID=Europe/Zagreb:20240328T080000
DTEND;TZID=Europe/Zagreb:20240328T140000
DTSTAMP:20260423T004246
CREATED:20240313T194445Z
LAST-MODIFIED:20240320T152820Z
UID:10000090-1711612800-1711634400@kantun-kulture.hr
SUMMARY:IZNAD BARIJERA: RAZVOJ PRISTUPAČNOG I INKLUZIVNOG TURIZMA
DESCRIPTION:Kreiranje recepata za inkluzivni i pristupačni turizam sa skraćenim nazivom CReAIT projekt je započet u srpnju 2023. s ciljem postizanja konkretnih inovativnih rješenja u turističkim destinacijama – Trogiru i Fermu (Italija) kako bi ih učinili pristupačnijima za osobe smanjene pokretljivosti\, osobe s invaliditetom\, senzornim\, motoričkim ili mentalnim teškoćama.  Partnerski sastanak u Trogiru okupio je četiri partnerske institucije – Grad Fermo i Socijalno poduzeće COOSS (Italija) te Grad Trogir TZ grada Trogira i Splitsku udrugu CEDRA. \nNA CReAIT’s TRENING PRIJAVITI SE MOŽETE NA OVOM LINKU: \nhttps://docs.google.com/forms/d/e/1FAIpQLScUgieDqAdGz_09pM8iII4yvDHqQCPFjBOwdM4yEEJd3qvoZA/viewform \n  \nPROGRAM CReAIT’s TRENINGA: \n  \n\nDAN – 28.3.2024. – ČETVRTAK od 8 do 14 sati\n\n\nŠto je pristupačan i inkluzivan turizam (AIT)?\nTrendovi u turističkom sektoru – uloga i mogućnosti povezane s AIT-om\nPristupačnost kao znak kvalitete i konkurentnosti\nPrednosti pristupačnosti za širu populaciju\, temeljene na načelima univerzalnog dizajna/dizajna za sve\nNajbolje prakse u EU-u s naglaskom na iskustvima Hrvatskoj i Europi\n\n  \n\nDAN – 29.3.2024. – PETAK od 8 do 14 sati\n\n\nosnovni parametri i značajke fizički dostupnih turističkih lokacija\nosnovne značajke dostupnih informacija i informacija o pristupačnosti\, kako razlikovati dobre i nekvalitetne informacije o pristupačnosti turističkih lokacija ili destinacija\,\nNajbolje prakse/dobri primjeri pristupačnih kulturnih lokaliteta\, sadržaja\, itinerera i usluga.\nRješenje i ideje za stvaranje jednakog turističkog doživljaja za sve\, od planiranja do ukupnog trajanja boravka\nemocionalno obrazovanje kao putovanje prema uključivosti\, poboljšana dobrobit kao rezultat inkluzivnog turizma\nkoraci potrebni za razvoj pristupačnih turističkih rješenja u kulturnim lokalitetima\, objektima\, itinererima i uslugama: praktična radionica kroz igre uloga i simulacije\n\n 
URL:https://kantun-kulture.hr/program/iznad-barijera-razvoj-pristupacnog-i-inkluzivnog-turizma/2024-03-28/
LOCATION:Kantun kulture\, Ulica dr. Franje Tuđmana 2\, Trogir\, 21220
CATEGORIES:Ostali programi
ATTACH;FMTTYPE=image/jpeg:https://kantun-kulture.hr/wp-content/uploads/2024/03/Logo-Interreg-Italy-Croatia_CReAIT.jpg
END:VEVENT
BEGIN:VEVENT
DTSTART;TZID=Europe/Zagreb:20240326T180000
DTEND;TZID=Europe/Zagreb:20240326T190000
DTSTAMP:20260423T004246
CREATED:20240322T133238Z
LAST-MODIFIED:20240322T143634Z
UID:10000097-1711476000-1711479600@kantun-kulture.hr
SUMMARY:Dodjela nagrada najuspješnijim sportašicama i sportašima
DESCRIPTION:Svake godine Zajednica sportskih udruga Trogira organizira svečanu dodjelu nagrada najuspješnijim sportašicama i sportašima s područja grada Trogira. Najbolji i najperspektivniji za 2023. bit će proglašeni u utorak\, 26. ožujka 2024. u 18 sati \nSportaši su sigurno najbolji ambasadori grada te svaki njihov uspjeh zaslužuje javnu zahvalu i priznanje. \n 
URL:https://kantun-kulture.hr/program/dodjela-nagrada-najuspjesnijim-sportasicama-i-sportasima/
LOCATION:Kantun kulture\, Ulica dr. Franje Tuđmana 2\, Trogir\, 21220
CATEGORIES:Ostali programi
ATTACH;FMTTYPE=image/jpeg:https://kantun-kulture.hr/wp-content/uploads/2024/03/1711118099547-3258b777-2a34-4313-bfa3-5dc0106d11bc_1.jpg
END:VEVENT
BEGIN:VEVENT
DTSTART;TZID=Europe/Zagreb:20240322T163000
DTEND;TZID=Europe/Zagreb:20240322T183000
DTSTAMP:20260423T004246
CREATED:20240222T094738Z
LAST-MODIFIED:20240314T084718Z
UID:10000083-1711125000-1711132200@kantun-kulture.hr
SUMMARY:Edukacija za privatne iznajmljivače u organizaciji Turističke zajednice
DESCRIPTION:Turistička zajednica Splitsko – dalmatinske županije organizator je PROGRAMA EDUKACIJA ZA PRIVATNE IZNAJMLJIVAČE u suradnji sa TZ Trogir.Prijave na edukaciju putem linka  \nPredavači su Barbara Marković\, Tomislav Zorić i Ana Brničević \nTeme koje će biti predstavljene su: \n• BRENDIRANJE i tematiziranje smještajnih jedinica\n(predstavljanje projekta TZSDZ)\n• NAPREDNI DOMAĆIN formiranje ekonomske održivosti\nsmještajnih jedinica\n• AI (umjetna inteligencija) u obiteljskom smještaju\nKako olakšati poslovanje?\n• Poslovanje vlasnika obiteljskog smještaja\nPrava i obveze\, novosti u poslovanju\, sigurnost gostiju\,\nizdavanje računa i novi propisi \nNakon održanih edukacija\, polaznici će dobiti tiskani materijal i certifikat kojom se svaki domaćin vrednuje kao “TZSDZ NAPREDNI DOMAĆIN”
URL:https://kantun-kulture.hr/program/edukacija-za-privatne-iznajmljivace-u-organizaciji-turisticke-zajednice/
LOCATION:Kantun kulture\, Ulica dr. Franje Tuđmana 2\, Trogir\, 21220
CATEGORIES:Ostali programi
ATTACH;FMTTYPE=image/png:https://kantun-kulture.hr/wp-content/uploads/2024/02/fotor_2023-5-12_14_9_26.png
END:VEVENT
BEGIN:VEVENT
DTSTART;TZID=Europe/Zagreb:20240321T180000
DTEND;TZID=Europe/Zagreb:20240321T210000
DTSTAMP:20260423T004246
CREATED:20240313T124925Z
LAST-MODIFIED:20240313T125104Z
UID:10000088-1711044000-1711054800@kantun-kulture.hr
SUMMARY:Predavanje "Koje igre usporavaju i oštećuju razvoj djeteta"
DESCRIPTION:Osnovna škola Majstora Radovana i Grad Trogir organiziraju odlično predavanje “Koje igre usporavaju i oštećuju razvoj djeteta” koje će se održati u Kantunu kulture. Trogir.\nPredavanje će održati prof. dr. Ranko Rajović\, ugledni liječnik specijalist interne medicine\, magistar neurofiziologije\, šef Katedre za neuroznanost u odgoju i obrazovanju na Pedagoškom fakultetu u Kopru\, autor NTC programa.\n\nAko želite prisustvovati predavanju\, prijava preko poveznice je obavezna\, broj mjesta je ograničen: https://forms.office.com/e/VNPYmnDM1p?origin=lprLink
URL:https://kantun-kulture.hr/program/predavanje-koje-igre-usporavaju-i-ostecuju-razvoj-djeteta/
LOCATION:Kantun kulture\, Ulica dr. Franje Tuđmana 2\, Trogir\, 21220
CATEGORIES:Ostali programi
ATTACH;FMTTYPE=image/jpeg:https://kantun-kulture.hr/wp-content/uploads/2024/03/431833268_917820863465941_2136522218068683867_n.jpg
END:VEVENT
END:VCALENDAR